BEGIN:VCALENDAR
PRODID:-//AT Content Types//AT Event//EN
VERSION:1.0
BEGIN:VEVENT
DTSTART:20160608T123000Z
DTEND:20160608T140000Z
DCREATED:20151001T090803Z
UID:ATEvent-4512d44af76d43158d27907f5d842d90
SEQUENCE:0
LAST-MODIFIED:20151001T090808Z
SUMMARY:Ecole de la Foi et de la Prière
DESCRIPTION:Les Pères de l'Eglise
LOCATION:Chapelle 83 rue Tronchet Lyon 6ème
PRIORITY:3
TRANSP:0
END:VEVENT
END:VCALENDAR
