BEGIN:VCALENDAR
PRODID:-//AT Content Types//AT Event//EN
VERSION:1.0
BEGIN:VEVENT
DTSTART:20200425T145500Z
DTEND:20200430T145500Z
DCREATED:20200425T150207Z
UID:ATEvent-5a037ca38211449fa819500b7c568be3
SEQUENCE:0
LAST-MODIFIED:20200425T150214Z
SUMMARY:LITURGIE FAMILIALE
PRIORITY:3
TRANSP:0
END:VEVENT
END:VCALENDAR
