BEGIN:VCALENDAR
PRODID:-//AT Content Types//AT Event//EN
VERSION:1.0
BEGIN:VEVENT
DTSTART:20151202T063000Z
DTEND:20151202T070000Z
DCREATED:20151126T135558Z
UID:ATEvent-7a2958244e0145afbf90e773329da99b
SEQUENCE:0
LAST-MODIFIED:20151126T135603Z
SUMMARY:Messe des Pères de Famille
LOCATION:Eglise de la Rédemption
PRIORITY:3
TRANSP:0
END:VEVENT
END:VCALENDAR
