BEGIN:VCALENDAR
PRODID:-//AT Content Types//AT Event//EN
VERSION:2.0
METHOD:PUBLISH
BEGIN:VEVENT
DTSTAMP:20260421T084705Z
CREATED:20151001T100100Z
UID:ATEvent-22e0ae4856ed4e36b609fc5c2948ae16
LAST-MODIFIED:20151001T130118Z
SUMMARY:Parcours des Bases de la Foi
DTSTART:20151103T193000Z
DTEND:20151103T210000Z
DESCRIPTION:Rencontre préalable d'information\nCe parcours permet de 
 "revisiter" la foi chrétienne dans ce qui en fait les sources et les 
 fondements
LOCATION:Maison paroissiale - 17 rue Godefroy Lyon 6ème
CLASS:PUBLIC
END:VEVENT
END:VCALENDAR
