BEGIN:VCALENDAR
PRODID:-//AT Content Types//AT Event//EN
VERSION:2.0
METHOD:PUBLISH
BEGIN:VEVENT
DTSTAMP:20260421T085726Z
CREATED:20200503T153805Z
UID:ATEvent-641cb276b877453c8d95b2002ff04290
LAST-MODIFIED:20200503T153811Z
SUMMARY:Prière du Pape François
DTSTART:20200503T154000Z
DTEND:20200510T154000Z
CLASS:PUBLIC
END:VEVENT
END:VCALENDAR
