BEGIN:VCALENDAR
PRODID:-//AT Content Types//AT Event//EN
VERSION:2.0
METHOD:PUBLISH
BEGIN:VEVENT
DTSTAMP:20260420T090744Z
CREATED:20200226T111059Z
UID:ATEvent-472a539918c64e9d804ab44560e1f194
LAST-MODIFIED:20200226T111106Z
SUMMARY:Réunion préparation Confirmation Jeunes
DTSTART:20200310T173000Z
DTEND:20200310T183000Z
LOCATION:17 rue Godefroy\, 69006 LYON
CLASS:PUBLIC
END:VEVENT
END:VCALENDAR
